{"text_format":"1","workbook":"xlsx","n_sheets":7,"sheets":["はじめに","申込み方法","①学校情報","②団体戦","③個人戦","大会確認シート","リスト"],"not_rendered":{"charts":0,"images":2,"macros":1,"external_links":0,"defined_names":3,"comments":0,"pivot_tables":0},"unopened":[],"bounds":{"document_bytes":16777216,"sheet_cells":100000,"rows_first":2000,"rows_last":500,"rows_between":2000,"halvings":0,"cell_chars":16384,"cell_head_chars":4096},"cells_cut":0,"cells_raw":0,"read":"whole","date_system":"1900"}

{"sheet":"はじめに","index":0,"n_rows":36,"n_cols":3,"rows_kept":36,"cut":false,"hidden":false,"merged":[[35,2,35,12]]}
[]
[null,null,"＜はじめに＞"]
[]
[null,null,"入力を始める前に、このファイルを一度閉じて、下記の①②③の対応をお願いします。"]
[null,null,"学校情報を入力すると、ファイル名が表示され、名前をつけて保存ができるようになります。"]
[]
[]
[]
[]
[]
[]
[]
[]
[]
[]
[]
[]
[]
[]
[]
[]
[]
[]
[]
[]
[]
[]
[]
[]
[]
[]
[]
[]
[null,null,"①　このファイルを閉じた後、右クリック、プロパティを選択"]
[null,null,"②　下側の「セキュリティを許可する」にチェックを入れて「OK]をクリック"]
[null,null,"③　学校情報を入力すると、申込み方法タブからファイル名を\n　「学校番号_学校名(性別)」で保存ができるようになります。"]

{"sheet":"申込み方法","index":1,"n_rows":18,"n_cols":4,"rows_kept":18,"cut":false,"hidden":false,"merged":[]}
[]
[null,null,{"$f":"①学校情報!B3&\"沖縄県高等学校ソフトテニス競技大会申し込み\"","v":"第38回NTT西日本杯沖縄県高等学校ソフトテニス競技大会申し込み"}]
[]
[null,"＜申し込み方法＞"]
[null,"１．①学校情報　②団体戦　③個人戦　シートへ必要事項を入力する。"]
[null,null,"※入力途中の場合は、上書き保存・名前を変えて保存のどちらでもでかまいません。"]
[]
[null,"２．次の手順でエクセルファイルを送信する。"]
[null,null,"①　このファイルを下記の名前で保存します。"]
[null,null,{"$f":"IF(①学校情報!B6=\"\",\"ファイル名は「学校情報」入力後表示\",①学校情報!B6&\"_\"&①学校情報!B9&\"(\"&①学校情報!B10&\")_\"&①学校情報!D2&①学校情報!D3)","v":"ファイル名は「学校情報」入力後表示"},"※ファイル名に大会名を追加しました。"]
[null,null,null,"※外部共有可(制限なし)で保存をお願いします。"]
[null,null,"②　下記のアドレスをクリックする"]
[null,null,"https://forms.office.com/r/yJ3P1YL34f"]
[null,null,"③　アップロードをクリックして、このエクセルファイルを選択する。"]
[]
[]
[null,null,"※申込みチーム数・ペア数が入力欄を超える場合は、ファイル名に「追加」等を付したファイルを作成し、複数のファイルをアップロードをしてください。(例)　5_名護(男子・追加)"]
[null,null,"※各シートの入力欄以外を訂正したい場合は、校閲→シートの保護解除をクリックしてください。"]

{"sheet":"①学校情報","index":2,"n_rows":15,"n_cols":4,"rows_kept":15,"cut":false,"hidden":false,"merged":[]}
["学校情報入力"]
["年度","令和８年度",null,2026]
["大会名","第38回NTT西日本杯",null,"NTT"]
[]
["学校情報"]
["学校番号",{"$f":"IF(B9=\"\",\"\",VLOOKUP($B$9,リスト!$B$15:$F$100,2,0))","v":""}]
["学校名",{"$f":"IF(B9=\"\",\"\",VLOOKUP($B$9,リスト!$B$15:$F$100,3,0))","v":""}]
["住所",{"$f":"IF(B9=\"\",\"\",VLOOKUP($B$9,リスト!$B$15:$F$100,4,0))","v":""}]
["学校略称",null,"リストから選択してください"]
["男女の別",null,"リストから選択してください"]
["ふりがな"]
["引率責任者"]
["引率責任者携帯電話"]
["ふりがな"]
["監督名"]

{"sheet":"②団体戦","index":3,"n_rows":30,"n_cols":6,"rows_kept":30,"cut":false,"hidden":false,"merged":[[1,5,4,5],[6,5,8,5]]}
[]
["Aチーム","選手名","ふりがな","学年",null,"＜確認＞\nデータを貼り付けしたい場合は、マウスを右クリックして、「値」貼り付けをしてください。\n"]
["A1"]
["A2"]
["A3"]
["A4"]
["A5",null,null,null,null,"＜確認＞\n選手名は、姓と名の間にスペースを入れて下さい。\n"]
["A6"]
["A7"]
["A8"]
[]
["Bチーム","選手名","ふりがな","学年"]
["B1"]
["B2"]
["B3"]
["B4"]
["B5"]
["B6"]
["B7"]
["B8"]
[]
["Cチーム","選手名","ふりがな","学年"]
["C1"]
["C2"]
["C3"]
["C4"]
["C5"]
["C6"]
["C7"]
["C8"]

{"sheet":"③個人戦","index":4,"n_rows":30,"n_cols":6,"rows_kept":30,"cut":false,"hidden":false,"merged":[[1,5,4,5],[6,5,8,5]]}
["個人戦選手入力"]
["番号","選手名","ふりがな","学年",null,"＜確認＞\nデータを貼り付けしたい場合は、マウスを右クリックして、「値」貼り付けをしてください。\n"]
["P1"]
["Q1"]
["P2"]
["Q2"]
["P３",null,null,null,null,"＜確認＞\n選手名は、姓と名の間にスペースを入れて下さい。\n"]
["Q３"]
["P４"]
["Q４"]
["P５"]
["Q５"]
["P６"]
["Q６"]
["P７"]
["Q７"]
["P８"]
["Q８"]
["P９"]
["Q９"]
["P１０"]
["Q１０"]
["P１１"]
["Q１１"]
["P１２"]
["Q１２"]
["P１３"]
["Q１３"]
["P１４"]
["Q１４"]

{"sheet":"大会確認シート","index":5,"n_rows":36,"n_cols":21,"rows_kept":36,"cut":false,"hidden":false,"merged":[[28,6,29,6],[30,6,31,6],[32,6,33,6],[34,6,35,6],[28,17,29,17],[30,17,31,17],[32,17,33,17],[34,17,35,17],[33,12,33,13],[34,12,34,13],[35,12,35,13],[28,12,28,13],[29,12,29,13],[30,12,30,13],[31,12,31,13],[32,12,32,13],[3,8,3,9],[0,1,0,3],[8,1,8,2],[9,1,9,2],[10,1,10,2],[1,1,1,9],[5,1,5,2],[6,1,6,4],[6,6,6,9],[4,6,4,7],[4,3,4,5],[5,3,5,5],[5,6,5,7],[5,8,5,9],[4,1,4,2],[4,8,4,9],[21,1,21,2],[22,1,22,2],[11,1,11,2],[12,1,12,2],[13,1,13,2],[14,1,14,2],[15,1,15,2],[18,6,19,6],[20,6,21,6],[22,6,23,6],[24,6,25,6],[26,6,27,6],[8,6,9,6],[16,6,17,6],[14,6,15,6],[10,6,11,6],[12,6,13,6],[35,1,35,2],[7,1,7,2],[27,1,27,2],[17,1,17,2],[31,1,31,2],[32,1,32,2],[33,1,33,2],[34,1,34,2],[30,1,30,2],[23,1,23,2],[24,1,24,2],[25,1,25,2],[28,1,28,2],[29,1,29,2],[18,1,18,2],[19,1,19,2],[20,1,20,2],[10,12,10,13],[10,17,11,17],[11,12,11,13],[12,12,12,13],[12,17,13,17],[13,12,13,13],[6,12,6,15],[6,17,6,20],[4,12,4,13],[4,14,4,16],[4,19,4,20],[5,12,5,13],[5,14,5,16],[5,17,5,18],[5,19,5,20],[22,12,22,13],[22,17,23,17],[23,12,23,13],[24,12,24,13],[24,17,25,17],[25,12,25,13],[26,17,27,17],[27,12,27,13],[4,17,4,18],[14,12,14,13],[14,17,15,17],[15,12,15,13],[16,17,17,17],[17,12,17,13],[18,12,18,13],[18,17,19,17],[19,12,19,13],[20,12,20,13],[20,17,21,17],[21,12,21,13],[7,12,7,13],[8,12,8,13],[8,17,9,17],[9,12,9,13]]}
[null,{"$f":"①学校情報!$B$2","v":"令和８年度"}]
[null,{"$f":"①学校情報!B3&\"沖縄県高等学校ソフトテニス競技大会申し込み\"","v":"第38回NTT西日本杯沖縄県高等学校ソフトテニス競技大会申し込み"}]
[]
[null,null,null,null,null,null,null,null,{"$f":"①学校情報!$B$10","v":0}]
[null,"学校名",null,{"$f":"IF(①学校情報!$B$7=\"\",\"\",①学校情報!$B$7)","v":""},null,null,"連絡先",null,{"$f":"IF(①学校情報!$B$13=\"\",\"\",①学校情報!$B$13)","v":""},null,null,null,"学校名",null,{"$f":"IF(①学校情報!$B$7=\"\",\"\",①学校情報!$B$7)","v":""},null,null,"性別",null,{"$f":"①学校情報!$B$10","v":0}]
[null,"監督",null,{"$f":"IF(①学校情報!$B$15=\"\",\"\",①学校情報!$B$15)","v":""},null,null,"引率責任者",null,{"$f":"IF(①学校情報!$B$12=\"\",\"\",①学校情報!$B$12)","v":""},null,null,null,"監督",null,{"$f":"IF(①学校情報!$B$14=\"\",\"\",①学校情報!$B$14)","v":""},null,null,"引率責任者",null,{"$f":"IF(①学校情報!$B$11=\"\",\"\",①学校情報!$B$11)","v":""}]
[null,"団体の部",null,null,null,null,"個人の部",null,null,null,null,null,"団体の部",null,null,null,null,"個人の部"]
[null,"Ａチーム",null,"氏　　　　名","学年",null,null,null,"氏　　　　名",null,null,null,"Ａチーム",null,"氏　　　　名","学年",null,null,null,"氏　　　　名"]
[null,1,null,{"$f":"IF(②団体戦!$B$3=\"\",\"\",②団体戦!$B$3)","v":""},{"$f":"IF(②団体戦!$D$3=\"\",\"\",②団体戦!$D$3)","v":""},null,1,"Ｐ",{"$f":"IF(③個人戦!$B3=\"\",\"\",③個人戦!$B3)","v":""},{"$f":"IF(③個人戦!$D3=\"\",\"\",③個人戦!$D3)","v":""},null,null,1,null,{"$f":"IF(②団体戦!$C3=\"\",\"\",②団体戦!$C3)","v":""},{"$f":"IF(②団体戦!$D$3=\"\",\"\",②団体戦!$D$3)","v":""},null,1,"Ｐ",{"$f":"IF(③個人戦!$C3=\"\",\"\",③個人戦!$C3)","v":""},{"$f":"IF(③個人戦!$D3=\"\",\"\",③個人戦!$D3)","v":""}]
[null,2,null,{"$f":"IF(②団体戦!$B$4=\"\",\"\",②団体戦!$B$4)","v":""},{"$f":"IF(②団体戦!$D$4=\"\",\"\",②団体戦!$D$4)","v":""},null,null,"Ｑ",{"$f":"IF(③個人戦!$B4=\"\",\"\",③個人戦!$B4)","v":""},{"$f":"IF(③個人戦!$D4=\"\",\"\",③個人戦!$D4)","v":""},null,null,2,null,{"$f":"IF(②団体戦!$C4=\"\",\"\",②団体戦!$C4)","v":""},{"$f":"IF(②団体戦!$D$4=\"\",\"\",②団体戦!$D$4)","v":""},null,null,"Ｑ",{"$f":"IF(③個人戦!$C4=\"\",\"\",③個人戦!$C4)","v":""},{"$f":"IF(③個人戦!$D4=\"\",\"\",③個人戦!$D4)","v":""}]
[null,3,null,{"$f":"IF(②団体戦!$B$5=\"\",\"\",②団体戦!$B$5)","v":""},{"$f":"IF(②団体戦!$D$5=\"\",\"\",②団体戦!$D$5)","v":""},null,2,"Ｐ",{"$f":"IF(③個人戦!$B5=\"\",\"\",③個人戦!$B5)","v":""},{"$f":"IF(③個人戦!$D5=\"\",\"\",③個人戦!$D5)","v":""},null,null,3,null,{"$f":"IF(②団体戦!$C5=\"\",\"\",②団体戦!$C5)","v":""},{"$f":"IF(②団体戦!$D$5=\"\",\"\",②団体戦!$D$5)","v":""},null,2,"Ｐ",{"$f":"IF(③個人戦!$C5=\"\",\"\",③個人戦!$C5)","v":""},{"$f":"IF(③個人戦!$D5=\"\",\"\",③個人戦!$D5)","v":""}]
[null,4,null,{"$f":"IF(②団体戦!$B$6=\"\",\"\",②団体戦!$B$6)","v":""},{"$f":"IF(②団体戦!$D$6=\"\",\"\",②団体戦!$D$6)","v":""},null,null,"Ｑ",{"$f":"IF(③個人戦!$B6=\"\",\"\",③個人戦!$B6)","v":""},{"$f":"IF(③個人戦!$D6=\"\",\"\",③個人戦!$D6)","v":""},null,null,4,null,{"$f":"IF(②団体戦!$C6=\"\",\"\",②団体戦!$C6)","v":""},{"$f":"IF(②団体戦!$D$6=\"\",\"\",②団体戦!$D$6)","v":""},null,null,"Ｑ",{"$f":"IF(③個人戦!$C6=\"\",\"\",③個人戦!$C6)","v":""},{"$f":"IF(③個人戦!$D6=\"\",\"\",③個人戦!$D6)","v":""}]
[null,5,null,{"$f":"IF(②団体戦!$B$7=\"\",\"\",②団体戦!$B$7)","v":""},{"$f":"IF(②団体戦!$D$7=\"\",\"\",②団体戦!$D$7)","v":""},null,3,"Ｐ",{"$f":"IF(③個人戦!$B7=\"\",\"\",③個人戦!$B7)","v":""},{"$f":"IF(③個人戦!$D7=\"\",\"\",③個人戦!$D7)","v":""},null,null,5,null,{"$f":"IF(②団体戦!$C7=\"\",\"\",②団体戦!$C7)","v":""},{"$f":"IF(②団体戦!$D$7=\"\",\"\",②団体戦!$D$7)","v":""},null,3,"Ｐ",{"$f":"IF(③個人戦!$C7=\"\",\"\",③個人戦!$C7)","v":""},{"$f":"IF(③個人戦!$D7=\"\",\"\",③個人戦!$D7)","v":""}]
[null,6,null,{"$f":"IF(②団体戦!$B$8=\"\",\"\",②団体戦!$B$8)","v":""},{"$f":"IF(②団体戦!$D$8=\"\",\"\",②団体戦!$D$8)","v":""},null,null,"Ｑ",{"$f":"IF(③個人戦!$B8=\"\",\"\",③個人戦!$B8)","v":""},{"$f":"IF(③個人戦!$D8=\"\",\"\",③個人戦!$D8)","v":""},null,null,6,null,{"$f":"IF(②団体戦!$C8=\"\",\"\",②団体戦!$C8)","v":""},{"$f":"IF(②団体戦!$D$8=\"\",\"\",②団体戦!$D$8)","v":""},null,null,"Ｑ",{"$f":"IF(③個人戦!$C8=\"\",\"\",③個人戦!$C8)","v":""},{"$f":"IF(③個人戦!$D8=\"\",\"\",③個人戦!$D8)","v":""}]
[null,7,null,{"$f":"IF(②団体戦!$B$9=\"\",\"\",②団体戦!$B$9)","v":""},{"$f":"IF(②団体戦!$D$9=\"\",\"\",②団体戦!$D$9)","v":""},null,4,"Ｐ",{"$f":"IF(③個人戦!$B9=\"\",\"\",③個人戦!$B9)","v":""},{"$f":"IF(③個人戦!$D9=\"\",\"\",③個人戦!$D9)","v":""},null,null,7,null,{"$f":"IF(②団体戦!$C9=\"\",\"\",②団体戦!$C9)","v":""},{"$f":"IF(②団体戦!$D$9=\"\",\"\",②団体戦!$D$9)","v":""},null,4,"Ｐ",{"$f":"IF(③個人戦!$C9=\"\",\"\",③個人戦!$C9)","v":""},{"$f":"IF(③個人戦!$D9=\"\",\"\",③個人戦!$D9)","v":""}]
[null,8,null,{"$f":"IF(②団体戦!$B$10=\"\",\"\",②団体戦!$B$10)","v":""},{"$f":"IF(②団体戦!$D$10=\"\",\"\",②団体戦!$D$10)","v":""},null,null,"Ｑ",{"$f":"IF(③個人戦!$B10=\"\",\"\",③個人戦!$B10)","v":""},{"$f":"IF(③個人戦!$D10=\"\",\"\",③個人戦!$D10)","v":""},null,null,8,null,{"$f":"IF(②団体戦!$C10=\"\",\"\",②団体戦!$C10)","v":""},{"$f":"IF(②団体戦!$D$10=\"\",\"\",②団体戦!$D$10)","v":""},null,null,"Ｑ",{"$f":"IF(③個人戦!$C10=\"\",\"\",③個人戦!$C10)","v":""},{"$f":"IF(③個人戦!$D10=\"\",\"\",③個人戦!$D10)","v":""}]
[null,null,null,null,null,null,5,"Ｐ",{"$f":"IF(③個人戦!$B11=\"\",\"\",③個人戦!$B11)","v":""},{"$f":"IF(③個人戦!$D11=\"\",\"\",③個人戦!$D11)","v":""},null,null,null,null,null,null,null,5,"Ｐ",{"$f":"IF(③個人戦!$C11=\"\",\"\",③個人戦!$C11)","v":""},{"$f":"IF(③個人戦!$D11=\"\",\"\",③個人戦!$D11)","v":""}]
[null,"Ｂチーム",null,"氏　　　　名","学年",null,null,"Ｑ",{"$f":"IF(③個人戦!$B12=\"\",\"\",③個人戦!$B12)","v":""},{"$f":"IF(③個人戦!$D12=\"\",\"\",③個人戦!$D12)","v":""},null,null,"Ｂチーム",null,"氏　　　　名","学年",null,null,"Ｑ",{"$f":"IF(③個人戦!$C12=\"\",\"\",③個人戦!$C12)","v":""},{"$f":"IF(③個人戦!$D12=\"\",\"\",③個人戦!$D12)","v":""}]
[null,1,null,{"$f":"IF(②団体戦!$B$13=\"\",\"\",②団体戦!$B$13)","v":""},{"$f":"IF(②団体戦!$D$13=\"\",\"\",②団体戦!$D$13)","v":""},null,6,"Ｐ",{"$f":"IF(③個人戦!$B13=\"\",\"\",③個人戦!$B13)","v":""},{"$f":"IF(③個人戦!$D13=\"\",\"\",③個人戦!$D13)","v":""},null,null,1,null,{"$f":"IF(②団体戦!$C13=\"\",\"\",②団体戦!$C13)","v":""},{"$f":"IF(②団体戦!$D$13=\"\",\"\",②団体戦!$D$13)","v":""},null,6,"Ｐ",{"$f":"IF(③個人戦!$C13=\"\",\"\",③個人戦!$C13)","v":""},{"$f":"IF(③個人戦!$D13=\"\",\"\",③個人戦!$D13)","v":""}]
[null,2,null,{"$f":"IF(②団体戦!$B$14=\"\",\"\",②団体戦!$B$14)","v":""},{"$f":"IF(②団体戦!$D$14=\"\",\"\",②団体戦!$D$14)","v":""},null,null,"Ｑ",{"$f":"IF(③個人戦!$B14=\"\",\"\",③個人戦!$B14)","v":""},{"$f":"IF(③個人戦!$D14=\"\",\"\",③個人戦!$D14)","v":""},null,null,2,null,{"$f":"IF(②団体戦!$C14=\"\",\"\",②団体戦!$C14)","v":""},{"$f":"IF(②団体戦!$D$14=\"\",\"\",②団体戦!$D$14)","v":""},null,null,"Ｑ",{"$f":"IF(③個人戦!$C14=\"\",\"\",③個人戦!$C14)","v":""},{"$f":"IF(③個人戦!$D14=\"\",\"\",③個人戦!$D14)","v":""}]
[null,3,null,{"$f":"IF(②団体戦!$B$15=\"\",\"\",②団体戦!$B$15)","v":""},{"$f":"IF(②団体戦!$D$15=\"\",\"\",②団体戦!$D$15)","v":""},null,7,"Ｐ",{"$f":"IF(③個人戦!$B15=\"\",\"\",③個人戦!$B15)","v":""},{"$f":"IF(③個人戦!$D15=\"\",\"\",③個人戦!$D15)","v":""},null,null,3,null,{"$f":"IF(②団体戦!$C15=\"\",\"\",②団体戦!$C15)","v":""},{"$f":"IF(②団体戦!$D$15=\"\",\"\",②団体戦!$D$15)","v":""},null,7,"Ｐ",{"$f":"IF(③個人戦!$C15=\"\",\"\",③個人戦!$C15)","v":""},{"$f":"IF(③個人戦!$D15=\"\",\"\",③個人戦!$D15)","v":""}]
[null,4,null,{"$f":"IF(②団体戦!$B$16=\"\",\"\",②団体戦!$B$16)","v":""},{"$f":"IF(②団体戦!$D$16=\"\",\"\",②団体戦!$D$16)","v":""},null,null,"Ｑ",{"$f":"IF(③個人戦!$B16=\"\",\"\",③個人戦!$B16)","v":""},{"$f":"IF(③個人戦!$D16=\"\",\"\",③個人戦!$D16)","v":""},null,null,4,null,{"$f":"IF(②団体戦!$C16=\"\",\"\",②団体戦!$C16)","v":""},{"$f":"IF(②団体戦!$D$16=\"\",\"\",②団体戦!$D$16)","v":""},null,null,"Ｑ",{"$f":"IF(③個人戦!$C16=\"\",\"\",③個人戦!$C16)","v":""},{"$f":"IF(③個人戦!$D16=\"\",\"\",③個人戦!$D16)","v":""}]
[null,5,null,{"$f":"IF(②団体戦!$B$17=\"\",\"\",②団体戦!$B$17)","v":""},{"$f":"IF(②団体戦!$D$17=\"\",\"\",②団体戦!$D$17)","v":""},null,8,"Ｐ",{"$f":"IF(③個人戦!$B17=\"\",\"\",③個人戦!$B17)","v":""},{"$f":"IF(③個人戦!$D17=\"\",\"\",③個人戦!$D17)","v":""},null,null,5,null,{"$f":"IF(②団体戦!$C17=\"\",\"\",②団体戦!$C17)","v":""},{"$f":"IF(②団体戦!$D$17=\"\",\"\",②団体戦!$D$17)","v":""},null,8,"Ｐ",{"$f":"IF(③個人戦!$C17=\"\",\"\",③個人戦!$C17)","v":""},{"$f":"IF(③個人戦!$D17=\"\",\"\",③個人戦!$D17)","v":""}]
[null,6,null,{"$f":"IF(②団体戦!$B$18=\"\",\"\",②団体戦!$B$18)","v":""},{"$f":"IF(②団体戦!$D$18=\"\",\"\",②団体戦!$D$18)","v":""},null,null,"Ｑ",{"$f":"IF(③個人戦!$B18=\"\",\"\",③個人戦!$B18)","v":""},{"$f":"IF(③個人戦!$D18=\"\",\"\",③個人戦!$D18)","v":""},null,null,6,null,{"$f":"IF(②団体戦!$C18=\"\",\"\",②団体戦!$C18)","v":""},{"$f":"IF(②団体戦!$D$18=\"\",\"\",②団体戦!$D$18)","v":""},null,null,"Ｑ",{"$f":"IF(③個人戦!$C18=\"\",\"\",③個人戦!$C18)","v":""},{"$f":"IF(③個人戦!$D18=\"\",\"\",③個人戦!$D18)","v":""}]
[null,7,null,{"$f":"IF(②団体戦!$B$19=\"\",\"\",②団体戦!$B$19)","v":""},{"$f":"IF(②団体戦!$D$19=\"\",\"\",②団体戦!$D$19)","v":""},null,9,"Ｐ",{"$f":"IF(③個人戦!$B19=\"\",\"\",③個人戦!$B19)","v":""},{"$f":"IF(③個人戦!$D19=\"\",\"\",③個人戦!$D19)","v":""},null,null,7,null,{"$f":"IF(②団体戦!$C19=\"\",\"\",②団体戦!$C19)","v":""},{"$f":"IF(②団体戦!$D$19=\"\",\"\",②団体戦!$D$19)","v":""},null,9,"Ｐ",{"$f":"IF(③個人戦!$C19=\"\",\"\",③個人戦!$C19)","v":""},{"$f":"IF(③個人戦!$D19=\"\",\"\",③個人戦!$D19)","v":""}]
[null,8,null,{"$f":"IF(②団体戦!$B$20=\"\",\"\",②団体戦!$B$20)","v":""},{"$f":"IF(②団体戦!$D$20=\"\",\"\",②団体戦!$D$20)","v":""},null,null,"Ｑ",{"$f":"IF(③個人戦!$B20=\"\",\"\",③個人戦!$B20)","v":""},{"$f":"IF(③個人戦!$D20=\"\",\"\",③個人戦!$D20)","v":""},null,null,8,null,{"$f":"IF(②団体戦!$C20=\"\",\"\",②団体戦!$C20)","v":""},{"$f":"IF(②団体戦!$D$20=\"\",\"\",②団体戦!$D$20)","v":""},null,null,"Ｑ",{"$f":"IF(③個人戦!$C20=\"\",\"\",③個人戦!$C20)","v":""},{"$f":"IF(③個人戦!$D20=\"\",\"\",③個人戦!$D20)","v":""}]
[null,null,null,null,null,null,10,"Ｐ",{"$f":"IF(③個人戦!$B21=\"\",\"\",③個人戦!$B21)","v":""},{"$f":"IF(③個人戦!$D21=\"\",\"\",③個人戦!$D21)","v":""},null,null,null,null,null,null,null,10,"Ｐ",{"$f":"IF(③個人戦!$C21=\"\",\"\",③個人戦!$C21)","v":""},{"$f":"IF(③個人戦!$D21=\"\",\"\",③個人戦!$D21)","v":""}]
[null,"Ｃチーム",null,"氏　　　　名","学年",null,null,"Ｑ",{"$f":"IF(③個人戦!$B22=\"\",\"\",③個人戦!$B22)","v":""},{"$f":"IF(③個人戦!$D22=\"\",\"\",③個人戦!$D22)","v":""},null,null,"Ｃチーム",null,"氏　　　　名","学年",null,null,"Ｑ",{"$f":"IF(③個人戦!$C22=\"\",\"\",③個人戦!$C22)","v":""},{"$f":"IF(③個人戦!$D22=\"\",\"\",③個人戦!$D22)","v":""}]
[null,1,null,{"$f":"IF(②団体戦!$B$23=\"\",\"\",②団体戦!$B$23)","v":""},{"$f":"IF(②団体戦!$D$23=\"\",\"\",②団体戦!$D$23)","v":""},null,11,"Ｐ",{"$f":"IF(③個人戦!$B23=\"\",\"\",③個人戦!$B23)","v":""},{"$f":"IF(③個人戦!$D23=\"\",\"\",③個人戦!$D23)","v":""},null,null,1,null,{"$f":"IF(②団体戦!$C23=\"\",\"\",②団体戦!$C23)","v":""},{"$f":"IF(②団体戦!$D$23=\"\",\"\",②団体戦!$D$23)","v":""},null,11,"Ｐ",{"$f":"IF(③個人戦!$C23=\"\",\"\",③個人戦!$C23)","v":""},{"$f":"IF(③個人戦!$D23=\"\",\"\",③個人戦!$D23)","v":""}]
[null,2,null,{"$f":"IF(②団体戦!$B$24=\"\",\"\",②団体戦!$B$24)","v":""},{"$f":"IF(②団体戦!$D$24=\"\",\"\",②団体戦!$D$24)","v":""},null,null,"Ｑ",{"$f":"IF(③個人戦!$B24=\"\",\"\",③個人戦!$B24)","v":""},{"$f":"IF(③個人戦!$D24=\"\",\"\",③個人戦!$D24)","v":""},null,null,2,null,{"$f":"IF(②団体戦!$C24=\"\",\"\",②団体戦!$C24)","v":""},{"$f":"IF(②団体戦!$D$24=\"\",\"\",②団体戦!$D$24)","v":""},null,null,"Ｑ",{"$f":"IF(③個人戦!$C24=\"\",\"\",③個人戦!$C24)","v":""},{"$f":"IF(③個人戦!$D24=\"\",\"\",③個人戦!$D24)","v":""}]
[null,3,null,{"$f":"IF(②団体戦!$B$25=\"\",\"\",②団体戦!$B$25)","v":""},{"$f":"IF(②団体戦!$D$25=\"\",\"\",②団体戦!$D$25)","v":""},null,12,"Ｐ",{"$f":"IF(③個人戦!$B25=\"\",\"\",③個人戦!$B25)","v":""},{"$f":"IF(③個人戦!$D25=\"\",\"\",③個人戦!$D25)","v":""},null,null,3,null,{"$f":"IF(②団体戦!$C25=\"\",\"\",②団体戦!$C25)","v":""},{"$f":"IF(②団体戦!$D$25=\"\",\"\",②団体戦!$D$25)","v":""},null,12,"Ｐ",{"$f":"IF(③個人戦!$C25=\"\",\"\",③個人戦!$C25)","v":""},{"$f":"IF(③個人戦!$D25=\"\",\"\",③個人戦!$D25)","v":""}]
[null,4,null,{"$f":"IF(②団体戦!$B$26=\"\",\"\",②団体戦!$B$26)","v":""},{"$f":"IF(②団体戦!$D$26=\"\",\"\",②団体戦!$D$26)","v":""},null,null,"Ｑ",{"$f":"IF(③個人戦!$B26=\"\",\"\",③個人戦!$B26)","v":""},{"$f":"IF(③個人戦!$D26=\"\",\"\",③個人戦!$D26)","v":""},null,null,4,null,{"$f":"IF(②団体戦!$C26=\"\",\"\",②団体戦!$C26)","v":""},{"$f":"IF(②団体戦!$D$26=\"\",\"\",②団体戦!$D$26)","v":""},null,null,"Ｑ",{"$f":"IF(③個人戦!$C26=\"\",\"\",③個人戦!$C26)","v":""},{"$f":"IF(③個人戦!$D26=\"\",\"\",③個人戦!$D26)","v":""}]
[null,5,null,{"$f":"IF(②団体戦!$B$27=\"\",\"\",②団体戦!$B$27)","v":""},{"$f":"IF(②団体戦!$D$27=\"\",\"\",②団体戦!$D$27)","v":""},null,13,"Ｐ",{"$f":"IF(③個人戦!$B27=\"\",\"\",③個人戦!$B27)","v":""},{"$f":"IF(③個人戦!$D27=\"\",\"\",③個人戦!$D27)","v":""},null,null,5,null,{"$f":"IF(②団体戦!$C27=\"\",\"\",②団体戦!$C27)","v":""},{"$f":"IF(②団体戦!$D$27=\"\",\"\",②団体戦!$D$27)","v":""},null,13,"Ｐ",{"$f":"IF(③個人戦!$C27=\"\",\"\",③個人戦!$C27)","v":""},{"$f":"IF(③個人戦!$D27=\"\",\"\",③個人戦!$D27)","v":""}]
[null,6,null,{"$f":"IF(②団体戦!$B$28=\"\",\"\",②団体戦!$B$28)","v":""},{"$f":"IF(②団体戦!$D$28=\"\",\"\",②団体戦!$D$28)","v":""},null,null,"Ｑ",{"$f":"IF(③個人戦!$B28=\"\",\"\",③個人戦!$B28)","v":""},{"$f":"IF(③個人戦!$D28=\"\",\"\",③個人戦!$D28)","v":""},null,null,6,null,{"$f":"IF(②団体戦!$C28=\"\",\"\",②団体戦!$C28)","v":""},{"$f":"IF(②団体戦!$D$28=\"\",\"\",②団体戦!$D$28)","v":""},null,null,"Ｑ",{"$f":"IF(③個人戦!$C28=\"\",\"\",③個人戦!$C28)","v":""},{"$f":"IF(③個人戦!$D28=\"\",\"\",③個人戦!$D28)","v":""}]
[null,7,null,{"$f":"IF(②団体戦!$B$29=\"\",\"\",②団体戦!$B$29)","v":""},{"$f":"IF(②団体戦!$D$29=\"\",\"\",②団体戦!$D$29)","v":""},null,14,"Ｐ",{"$f":"IF(③個人戦!$B29=\"\",\"\",③個人戦!$B29)","v":""},{"$f":"IF(③個人戦!$D29=\"\",\"\",③個人戦!$D29)","v":""},null,null,7,null,{"$f":"IF(②団体戦!$C29=\"\",\"\",②団体戦!$C29)","v":""},{"$f":"IF(②団体戦!$D$29=\"\",\"\",②団体戦!$D$29)","v":""},null,14,"Ｐ",{"$f":"IF(③個人戦!$C29=\"\",\"\",③個人戦!$C29)","v":""},{"$f":"IF(③個人戦!$D29=\"\",\"\",③個人戦!$D29)","v":""}]
[null,8,null,{"$f":"IF(②団体戦!$B$30=\"\",\"\",②団体戦!$B$30)","v":""},{"$f":"IF(②団体戦!$D$30=\"\",\"\",②団体戦!$D$30)","v":""},null,null,"Ｑ",{"$f":"IF(③個人戦!$B30=\"\",\"\",③個人戦!$B30)","v":""},{"$f":"IF(③個人戦!$D30=\"\",\"\",③個人戦!$D30)","v":""},null,null,8,null,{"$f":"IF(②団体戦!$C30=\"\",\"\",②団体戦!$C30)","v":""},{"$f":"IF(②団体戦!$D$30=\"\",\"\",②団体戦!$D$30)","v":""},null,null,"Ｑ",{"$f":"IF(③個人戦!$C30=\"\",\"\",③個人戦!$C30)","v":""},{"$f":"IF(③個人戦!$D30=\"\",\"\",③個人戦!$D30)","v":""}]

{"sheet":"リスト","index":6,"n_rows":92,"n_cols":6,"rows_kept":92,"cut":false,"hidden":false,"merged":[]}
[null,"2026-04-01"]
[]
[]
[]
[null,1]
[null,2]
[]
[]
[null,"男子"]
[null,"女子"]
[]
[null,"職員"]
[null,"外部"]
[]
[null,"辺土名","01","沖縄県立辺土名高等学校","大宜味村字饒波2015","0980-44-3103"]
[null,"北山","02","沖縄県立北山高等学校","今帰仁村字仲尾次540-1","0980-56-2401"]
[null,"本部","03","沖縄県立本部高等学校","本部町字渡久地377","0980-47-2418"]
[null,"名商工","04","沖縄県立名護商工高等学校","名護市大北4-1-23","0980-52-3389"]
[null,"名護","05","沖縄県立名護高等学校","名護市大西5-17-1","0980-52-2615"]
[null,"北農","06","沖縄県立北部農林高等学校","名護市字宇茂佐13","0980-52-2634"]
[null,"沖高専","07","国立沖縄工業高等専門学校","沖縄県名護市字辺野古905","0980-55-4003"]
[null,"宜野座","08","沖縄県立宜野座高等学校","宜野座村字宜野座1","098-968-8311"]
[null,"石川","09","沖縄県立石川高等学校","うるま市石川伊波861","098-964-2006"]
[null,"具商",10,"沖縄県立具志川商業高等学校","うるま市みどり町6-10-1","098-972-3287"]
[null,"前原",11,"沖縄県立前原高等学校","うるま市字田場1827","098-973-3249"]
[null,"中農",12,"沖縄県立中部農林高等学校","うるま市字田場1570","098-973-3578"]
[null,"具志川",13,"沖縄県立具志川高等学校","うるま市喜仲3-28-1","098-973-1213"]
[null,"与勝",14,"沖縄県立与勝高等学校","うるま市勝連平安名3248","098-978-5230"]
[null,"読谷",15,"沖縄県立読谷高等学校","読谷村字伊良皆198","098-956-2157"]
[null,"嘉手納",16,"沖縄県立嘉手納高等学校","嘉手納町字屋良806","098-956-3336"]
[null,"美里",17,"沖縄県立美里高等学校","沖縄市松本2-5-1","098-938-5145"]
[null,"美来工科",18,"沖縄県立美来工科高等学校","沖縄市越来3-17-1","098-937-5451"]
[null,"コザ",19,"沖縄県立コザ高等学校","沖縄市照屋5-5-1","098-937-3563"]
[null,"美工",20,"沖縄県立美里工業高等学校","沖縄市泡瀬5-42-2","098-937-5848"]
[null,"球陽",21,"沖縄県立球陽高等学校","沖縄市南桃原1-10-1","098-933-9301"]
[null,"北谷",22,"沖縄県立北谷高等学校","北谷町字桑江414","098-936-1010"]
[null,"北中城",23,"沖縄県立北中城高等学校","北中城村字渡口1997-13","098-935-3377"]
[null,"普天間",24,"沖縄県立普天間高等学校","宜野湾市普天間1-24-1","098-892-3354"]
[null,"中商",25,"沖縄県立中部商業高等学校","宜野湾市我如古2-2-1","098-898-4888"]
[null,"宜野湾",26,"沖縄県立宜野湾高等学校","宜野湾市真志喜2-25-1","098-897-1020"]
[null,"沖ｶﾄ",27,"沖縄カトリック高等学校","宜野湾市真栄原3-16-1","098-897-3300"]
[null,"西原",28,"沖縄県立西原高等学校","西原町字翁長610","098-945-5418"]
[null,"浦商",29,"沖縄県立浦添商業高等学校","浦添市伊祖3-11-1","098-877-5844"]
[null,"浦工",30,"沖縄県立浦添工業高等学校","浦添市経塚1-1-1","098-879-5992"]
[null,"陽明",31,"沖縄県立陽明高等学校","浦添市字大平488","098-879-3062"]
[null,"昭薬附",32,"昭和薬科大学附属高等学校","浦添市字沢岻450","098-870-1852"]
[null,"浦添",33,"沖縄県立浦添高等学校","浦添市内間3-26-1","098-877-4970"]
[null,"那覇工",34,"沖縄県立那覇工業高等学校","浦添市勢理客4-22-1","098-877-6144"]
[null,"那覇国",35,"沖縄県立那覇国際高等学校","那覇市天久1-29-1","098-860-5931"]
[null,"興南",36,"学校法人興南学園興南高等学校","那覇市古島1-7-1","098-884-3293"]
[null,"首里東",37,"沖縄県立首里東高等学校","那覇市首里石嶺町3-178","098-886-1578"]
[null,"首里",38,"沖縄県立首里高等学校","那覇市首里真和志町2-43","098-885-0028"]
[null,"沖工",39,"沖縄県立沖縄工業高等学校","那覇市松川3-20-1","098-832-3831"]
[null,"沖尚",40,"学校法人尚学学園沖縄尚学高等学校","那覇市字国場747","098-832-1767"]
[null,"真和志",41,"沖縄県立真和志高等学校","那覇市字真地248","098-833-0810"]
[null,"那覇商",42,"沖縄県立那覇商業高等学校","那覇市松山1-16-1","098-866-6555"]
[null,"那覇",43,"沖縄県立那覇高等学校","那覇市松尾1-21-44","098-867-1623"]
[null,"小禄",44,"沖縄県立小禄高等学校","那覇市鏡原町22-1","098-857-0481"]
[null,"那覇西",45,"沖縄県立那覇西高等学校","那覇市金城3-5-1","098-858-8274"]
[null,"開邦",46,"沖縄県立開邦高等学校","南風原町字新川646","098-889-1715"]
[null,"南風原",47,"沖縄県立南風原高等学校","南風原町字津嘉山1140","098-889-4618"]
[null,"知念",48,"沖縄県立知念高等学校","与那原町字与那原11","098-946-2207"]
[null,"豊見城",49,"沖縄県立豊見城高等学校","豊見城市字真玉橋217","098-850-5551"]
[null,"豊南",50,"沖縄県立豊見城南高等学校","豊見城市字翁長520","098-850-1950"]
[null,"南農",51,"沖縄県立南部農林高等学校","豊見城市字長堂182","098-850-6006"]
[null,"南商",52,"沖縄県立南部商業高等学校","八重瀬町字友寄850","098-998-2401"]
[null,"南工",53,"沖縄県立南部工業高等学校","八重瀬町字富盛1338","098-998-2313"]
[null,"向陽",54,"沖縄県立向陽高等学校","八重瀬町字港川150","098-998-9324"]
[null,"沖水",55,"沖縄県立沖縄水産高等学校","糸満市西崎1-1-1","098-994-3483"]
[null,"糸満",56,"沖縄県立糸満高等学校","糸満市字糸満1696-1","098-994-2012"]
[null,"久米島",57,"沖縄県立久米島高等学校","久米島町字嘉手苅727","098-985-2233"]
[null,"宮古",58,"沖縄県立宮古高等学校","宮古島市平良字西里718-1","0980-72-2118"]
[null,"宮総実",59,"沖縄県立宮古総合実業高等学校","宮古島市平良字下里280","0980-72-2249"]
[null,"宮工",60,"沖縄県立宮古工業高等学校","宮古島市平良字東仲宗根968-4","0980-72-3185"]
[null,"八重農",61,"沖縄県立八重山農林高等学校","石垣市字大川477-1","0980-82-3955"]
[null,"八商工",62,"沖縄県立八重山商工高等学校","石垣市字真栄里180","0980-82-3892"]
[null,"八重山",63,"沖縄県立八重山高等学校","石垣市字登野城275","0980-82-3972"]
[null,"鏡が丘特",64]
[null,"沖高特",65]
[null,"美咲特",68]
[null,"KBC",69]
[null,"宮古特",70]
[null,"西崎特",71]
[null,"大平特",72]
[null,"中農高支",74]
[null,"陽明高支",75]
[null,"南風原高支",76]
[null,"やえせ高支",77]
[null,"はなさき支",78]
[null,"仙台育英沖縄",81]
[null,"エナジック",82]
[null,"名護特",83]