{"text_format":"1","workbook":"xlsx","n_sheets":6,"sheets":["はじめに","申込み方法","①学校情報","②個人戦","印刷シート","リスト"],"not_rendered":{"charts":0,"images":1,"macros":1,"external_links":0,"defined_names":4,"comments":0,"pivot_tables":0},"unopened":[],"bounds":{"document_bytes":16777216,"sheet_cells":100000,"rows_first":2000,"rows_last":500,"rows_between":2000,"halvings":0,"cell_chars":16384,"cell_head_chars":4096},"cells_cut":0,"cells_raw":0,"read":"whole","date_system":"1900"}

{"sheet":"はじめに","index":0,"n_rows":15,"n_cols":2,"rows_kept":15,"cut":false,"hidden":false,"merged":[]}
[]
[]
[null,"はじめに（重要）"]
[]
[null,"エクセルの仕様上、ダウンロードをしたファイルはマクロが働かない場合があります。"]
[null,"次の方法で解除してください。"]
[]
[null,"１．このエクセルファイルを閉じる。"]
[null,"２．このエクセルファイルを右クリックする。"]
[null,"３．プロパティをクリックする。"]
[null,"４．全般タブの下段、セキュリティーの許可するにチェックを入れる"]
[null,"５．OKをクリックする。"]
[]
[null,"　①　このファイルを閉じた後、右クリック、プロパティを選択"]
[null,"　②　下側の「セキュリティを許可する」にチェックを入れて「OK]をクリック"]

{"sheet":"申込み方法","index":1,"n_rows":18,"n_cols":3,"rows_kept":18,"cut":false,"hidden":false,"merged":[]}
[]
[null,null,{"$f":"①学校情報!B3&\"申し込み\"","v":"第３１回 全沖縄高等学校ソフトテニス選手権大会申し込み"}]
[]
[null,"＜申し込み方法＞"]
[null,"１．①学校情報　②個人戦　シートへ必要事項を入力する。"]
[null,null,"※入力途中の場合は、上書き保存・名前を変えて保存のどちらでもでかまいません。"]
[]
[null,"２．次の手順でエクセルファイルを送信する。"]
[null,null,"①　このファイルを下記の名前で保存します。"]
[null,null,{"$f":"IF(①学校情報!B6=\"\",\"ファイル名は「学校情報」入力後表示\",①学校情報!B6&\"_\"&①学校情報!B8&\"(\"&①学校情報!B9&\")\")","v":"ファイル名は「学校情報」入力後表示"}]
[]
[null,null,"②　下記のアドレスをクリックする"]
[null,null,"https://forms.office.com/r/qwf0UqVAyX"]
[null,null,"③　アップロードをクリックして、このエクセルファイルを選択する。"]
[]
[]
[null,null,"※個人戦で２０ペアを超える場合は、ファイル名に「追加」等を付したファイルを作成し、アップロードをしてください。(例)　5_名護(男子・追加)"]
[null,null,"※各シートの入力欄以外を訂正したい場合は、校閲→シートの保護解除をクリックしてください。"]

{"sheet":"①学校情報","index":2,"n_rows":12,"n_cols":3,"rows_kept":12,"cut":false,"hidden":false,"merged":[]}
["学校情報入力"]
["年度","令和７年度"]
["大会名","第３１回 全沖縄高等学校ソフトテニス選手権大会"]
[]
["学校情報"]
["学校番号",{"$f":"IF(B8=\"\",\"\",VLOOKUP($B$8,リスト!$B$14:$F$99,2,0))","v":""},"訂正がある場合は、下のリストシートのデータを変更してください"]
["学校名",{"$f":"IF(B8=\"\",\"\",VLOOKUP($B$8,リスト!$B$14:$F$99,3,0))","v":""},"訂正がある場合は、下のリストシートのデータを変更してください"]
["学校略称",null,"リストから選択してください"]
["男女の別",null,"リストから選択してください"]
["引率責任者"]
["引率責任者携帯電話"]
["監督名"]

{"sheet":"②個人戦","index":3,"n_rows":43,"n_cols":6,"rows_kept":43,"cut":false,"hidden":false,"merged":[[1,5,5,5],[10,5,12,5],[14,5,18,5],[7,5,8,5]]}
["個人戦選手入力"]
["番号","選手名","ふりがな","学年",null,"＜確認＞\n他のデータから貼り付けをしたい場合は、マウスを右クリックして、貼り付けのオプションで「値」貼り付けをしてください。\n"]
["例","沖縄　太郎","おきなわ　たろう","2年"]
["1A"]
["1B"]
["2A"]
["2B"]
["3A",null,null,null,null,"＜確認＞\n必ず強い順で入力してください。"]
["3B"]
["4A"]
["4B",null,null,null,null,"＜確認＞\n選手名は、姓と名の間にスペースを入れて下さい。\n"]
["5A"]
["5B"]
["6A"]
["6B",null,null,null,null,"＜確認＞\n※２０ペアを超える場合は、ファイル名に「追加」等を付したファイルを作成し、アップロードをしてください。\n(例)　5_名護(男子・追加)"]
["7A"]
["7B"]
["8A"]
["8B"]
["9A"]
["9B"]
["10A"]
["10B"]
["11A"]
["11B"]
["12A"]
["12B"]
["13A"]
["13B"]
["14A"]
["14B"]
["15A"]
["15B"]
["16A"]
["16B"]
["17A"]
["17B"]
["18A"]
["18B"]
["19A"]
["19B"]
["20A"]
["20B"]

{"sheet":"印刷シート","index":4,"n_rows":28,"n_cols":10,"rows_kept":28,"cut":false,"hidden":false,"merged":[[19,1,20,1],[19,6,20,6],[21,1,22,1],[21,6,22,6],[13,6,14,6],[15,1,16,1],[15,6,16,6],[17,1,18,1],[17,6,18,6],[3,1,3,2],[4,1,4,2],[0,1,0,3],[1,1,1,9],[2,8,2,9],[3,3,3,5],[3,6,3,7],[3,8,3,9],[5,1,5,9],[27,1,28,9],[4,3,4,5],[4,6,4,7],[4,8,4,9],[23,1,24,1],[23,6,24,6],[25,1,26,1],[25,6,26,6],[7,1,8,1],[7,6,8,6],[9,1,10,1],[9,6,10,6],[11,1,12,1],[11,6,12,6],[13,1,14,1]]}
[null,{"$f":"①学校情報!B2","v":"令和７年度"}]
[null,{"$f":"①学校情報!B3&\"申込用紙\"","v":"第３１回 全沖縄高等学校ソフトテニス選手権大会申込用紙"}]
[null,null,null,null,null,null,null,null,{"$f":"IF(①学校情報!B9=\"\",\"\",①学校情報!B9)","v":""}]
[null,"学校名",null,{"$f":"IF(①学校情報!B7=\"\",\"\",①学校情報!B7)","v":""},null,null,"携帯電話",null,{"$f":"IF(①学校情報!B11=\"\",\"\",①学校情報!B11)","v":""}]
[null,"監督",null,{"$f":"IF(①学校情報!B12=\"\",\"\",①学校情報!B12)","v":""},null,null,"引率責任者",null,{"$f":"IF(①学校情報!B10=\"\",\"\",①学校情報!B10)","v":""}]
[null,"※ 必ず強い順から書いてください"]
[null,null,null,"氏　　　　名","学年",null,null,null,"氏　　　　名","学年"]
[null,1,"A",{"$f":"IF(②個人戦!B4=\"\",\"\",②個人戦!B4)","v":""},{"$f":"IF(②個人戦!D4=\"\",\"\",②個人戦!D4)","v":""},null,11,"A",{"$f":"IF(②個人戦!B24=\"\",\"\",②個人戦!B24)","v":""},{"$f":"IF(②個人戦!D24=\"\",\"\",②個人戦!D24)","v":""}]
[null,null,"B",{"$f":"IF(②個人戦!B5=\"\",\"\",②個人戦!B5)","v":""},{"$f":"IF(②個人戦!D5=\"\",\"\",②個人戦!D5)","v":""},null,null,"B",{"$f":"IF(②個人戦!B25=\"\",\"\",②個人戦!B25)","v":""},{"$f":"IF(②個人戦!D25=\"\",\"\",②個人戦!D25)","v":""}]
[null,2,"A",{"$f":"IF(②個人戦!B6=\"\",\"\",②個人戦!B6)","v":""},{"$f":"IF(②個人戦!D6=\"\",\"\",②個人戦!D6)","v":""},null,12,"A",{"$f":"IF(②個人戦!B26=\"\",\"\",②個人戦!B26)","v":""},{"$f":"IF(②個人戦!D26=\"\",\"\",②個人戦!D26)","v":""}]
[null,null,"B",{"$f":"IF(②個人戦!B7=\"\",\"\",②個人戦!B7)","v":""},{"$f":"IF(②個人戦!D7=\"\",\"\",②個人戦!D7)","v":""},null,null,"B",{"$f":"IF(②個人戦!B27=\"\",\"\",②個人戦!B27)","v":""},{"$f":"IF(②個人戦!D27=\"\",\"\",②個人戦!D27)","v":""}]
[null,3,"A",{"$f":"IF(②個人戦!B8=\"\",\"\",②個人戦!B8)","v":""},{"$f":"IF(②個人戦!D8=\"\",\"\",②個人戦!D8)","v":""},null,13,"A",{"$f":"IF(②個人戦!B28=\"\",\"\",②個人戦!B28)","v":""},{"$f":"IF(②個人戦!D28=\"\",\"\",②個人戦!D28)","v":""}]
[null,null,"B",{"$f":"IF(②個人戦!B9=\"\",\"\",②個人戦!B9)","v":""},{"$f":"IF(②個人戦!D9=\"\",\"\",②個人戦!D9)","v":""},null,null,"B",{"$f":"IF(②個人戦!B29=\"\",\"\",②個人戦!B29)","v":""},{"$f":"IF(②個人戦!D29=\"\",\"\",②個人戦!D29)","v":""}]
[null,4,"A",{"$f":"IF(②個人戦!B10=\"\",\"\",②個人戦!B10)","v":""},{"$f":"IF(②個人戦!D10=\"\",\"\",②個人戦!D10)","v":""},null,14,"A",{"$f":"IF(②個人戦!B30=\"\",\"\",②個人戦!B30)","v":""},{"$f":"IF(②個人戦!D30=\"\",\"\",②個人戦!D30)","v":""}]
[null,null,"B",{"$f":"IF(②個人戦!B11=\"\",\"\",②個人戦!B11)","v":""},{"$f":"IF(②個人戦!D11=\"\",\"\",②個人戦!D11)","v":""},null,null,"B",{"$f":"IF(②個人戦!B31=\"\",\"\",②個人戦!B31)","v":""},{"$f":"IF(②個人戦!D31=\"\",\"\",②個人戦!D31)","v":""}]
[null,5,"A",{"$f":"IF(②個人戦!B12=\"\",\"\",②個人戦!B12)","v":""},{"$f":"IF(②個人戦!D12=\"\",\"\",②個人戦!D12)","v":""},null,15,"A",{"$f":"IF(②個人戦!B32=\"\",\"\",②個人戦!B32)","v":""},{"$f":"IF(②個人戦!D32=\"\",\"\",②個人戦!D32)","v":""}]
[null,null,"B",{"$f":"IF(②個人戦!B13=\"\",\"\",②個人戦!B13)","v":""},{"$f":"IF(②個人戦!D13=\"\",\"\",②個人戦!D13)","v":""},null,null,"B",{"$f":"IF(②個人戦!B33=\"\",\"\",②個人戦!B33)","v":""},{"$f":"IF(②個人戦!D33=\"\",\"\",②個人戦!D33)","v":""}]
[null,6,"A",{"$f":"IF(②個人戦!B14=\"\",\"\",②個人戦!B14)","v":""},{"$f":"IF(②個人戦!D14=\"\",\"\",②個人戦!D14)","v":""},null,16,"A",{"$f":"IF(②個人戦!B34=\"\",\"\",②個人戦!B34)","v":""},{"$f":"IF(②個人戦!D34=\"\",\"\",②個人戦!D34)","v":""}]
[null,null,"B",{"$f":"IF(②個人戦!B15=\"\",\"\",②個人戦!B15)","v":""},{"$f":"IF(②個人戦!D15=\"\",\"\",②個人戦!D15)","v":""},null,null,"B",{"$f":"IF(②個人戦!B35=\"\",\"\",②個人戦!B35)","v":""},{"$f":"IF(②個人戦!D35=\"\",\"\",②個人戦!D35)","v":""}]
[null,7,"A",{"$f":"IF(②個人戦!B16=\"\",\"\",②個人戦!B16)","v":""},{"$f":"IF(②個人戦!D16=\"\",\"\",②個人戦!D16)","v":""},null,17,"A",{"$f":"IF(②個人戦!B36=\"\",\"\",②個人戦!B36)","v":""},{"$f":"IF(②個人戦!D36=\"\",\"\",②個人戦!D36)","v":""}]
[null,null,"B",{"$f":"IF(②個人戦!B17=\"\",\"\",②個人戦!B17)","v":""},{"$f":"IF(②個人戦!D17=\"\",\"\",②個人戦!D17)","v":""},null,null,"B",{"$f":"IF(②個人戦!B37=\"\",\"\",②個人戦!B37)","v":""},{"$f":"IF(②個人戦!D37=\"\",\"\",②個人戦!D37)","v":""}]
[null,8,"A",{"$f":"IF(②個人戦!B18=\"\",\"\",②個人戦!B18)","v":""},{"$f":"IF(②個人戦!D18=\"\",\"\",②個人戦!D18)","v":""},null,18,"A",{"$f":"IF(②個人戦!B38=\"\",\"\",②個人戦!B38)","v":""},{"$f":"IF(②個人戦!D38=\"\",\"\",②個人戦!D38)","v":""}]
[null,null,"B",{"$f":"IF(②個人戦!B19=\"\",\"\",②個人戦!B19)","v":""},{"$f":"IF(②個人戦!D19=\"\",\"\",②個人戦!D19)","v":""},null,null,"B",{"$f":"IF(②個人戦!B39=\"\",\"\",②個人戦!B39)","v":""},{"$f":"IF(②個人戦!D39=\"\",\"\",②個人戦!D39)","v":""}]
[null,9,"A",{"$f":"IF(②個人戦!B20=\"\",\"\",②個人戦!B20)","v":""},{"$f":"IF(②個人戦!D20=\"\",\"\",②個人戦!D20)","v":""},null,19,"A",{"$f":"IF(②個人戦!B40=\"\",\"\",②個人戦!B40)","v":""},{"$f":"IF(②個人戦!D40=\"\",\"\",②個人戦!D40)","v":""}]
[null,null,"B",{"$f":"IF(②個人戦!B21=\"\",\"\",②個人戦!B21)","v":""},{"$f":"IF(②個人戦!D21=\"\",\"\",②個人戦!D21)","v":""},null,null,"B",{"$f":"IF(②個人戦!B41=\"\",\"\",②個人戦!B41)","v":""},{"$f":"IF(②個人戦!D41=\"\",\"\",②個人戦!D41)","v":""}]
[null,10,"A",{"$f":"IF(②個人戦!B22=\"\",\"\",②個人戦!B22)","v":""},{"$f":"IF(②個人戦!D22=\"\",\"\",②個人戦!D22)","v":""},null,20,"A",{"$f":"IF(②個人戦!B42=\"\",\"\",②個人戦!B42)","v":""},{"$f":"IF(②個人戦!D42=\"\",\"\",②個人戦!D42)","v":""}]
[null,null,"B",{"$f":"IF(②個人戦!B23=\"\",\"\",②個人戦!B23)","v":""},{"$f":"IF(②個人戦!D23=\"\",\"\",②個人戦!D23)","v":""},null,null,"B",{"$f":"IF(②個人戦!B43=\"\",\"\",②個人戦!B43)","v":""},{"$f":"IF(②個人戦!D43=\"\",\"\",②個人戦!D43)","v":""}]
[null,"※申込〆切：令和８年１月６日（火）午後５時必着"]

{"sheet":"リスト","index":5,"n_rows":98,"n_cols":6,"rows_kept":98,"cut":false,"hidden":false,"merged":[]}
[]
[]
[]
[null,"1年"]
[null,"2年"]
[null,"3年"]
[]
[null,"男子"]
[null,"女子"]
[]
[null,"職員"]
[null,"外部"]
[]
[null,"辺土名",1,"沖縄県立辺土名高等学校","大宜味村字饒波2015","0980-44-3103"]
[null,"北山",2,"沖縄県立北山高等学校","今帰仁村字仲尾次540-1","0980-56-2401"]
[null,"本部",3,"沖縄県立本部高等学校","本部町字渡久地377","0980-47-2418"]
[null,"名商工",4,"沖縄県立名護商工高等学校","名護市大北4-1-23","0980-52-3389"]
[null,"名護",5,"沖縄県立名護高等学校","名護市大西5-17-1","0980-52-2615"]
[null,"北農",6,"沖縄県立北部農林高等学校","名護市字宇茂佐13","0980-52-2634"]
[null,"沖高専",7,"国立沖縄工業高等専門学校","沖縄県名護市字辺野古905","0980-55-4003"]
[null,"宜野座",8,"沖縄県立宜野座高等学校","宜野座村字宜野座1","098-968-8311"]
[null,"石川",9,"沖縄県立石川高等学校","うるま市石川伊波861","098-964-2006"]
[null,"具商",10,"沖縄県立具志川商業高等学校","うるま市みどり町6-10-1","098-972-3287"]
[null,"前原",11,"沖縄県立前原高等学校","うるま市字田場1827","098-973-3249"]
[null,"中農",12,"沖縄県立中部農林高等学校","うるま市字田場1570","098-973-3578"]
[null,"具志川",13,"沖縄県立具志川高等学校","うるま市喜仲3-28-1","098-973-1213"]
[null,"与勝",14,"沖縄県立与勝高等学校","うるま市勝連平安名3248","098-978-5230"]
[null,"読谷",15,"沖縄県立読谷高等学校","読谷村字伊良皆198","098-956-2157"]
[null,"嘉手納",16,"沖縄県立嘉手納高等学校","嘉手納町字屋良806","098-956-3336"]
[null,"美里",17,"沖縄県立美里高等学校","沖縄市松本2-5-1","098-938-5145"]
[null,"美来工科",18,"沖縄県立美来工科高等学校","沖縄市越来3-17-1","098-937-5451"]
[null,"コザ",19,"沖縄県立コザ高等学校","沖縄市照屋5-5-1","098-937-3563"]
[null,"美工",20,"沖縄県立美里工業高等学校","沖縄市泡瀬5-42-2","098-937-5848"]
[null,"球陽",21,"沖縄県立球陽高等学校","沖縄市南桃原1-10-1","098-933-9301"]
[null,"北谷",22,"沖縄県立北谷高等学校","北谷町字桑江414","098-936-1010"]
[null,"北中城",23,"沖縄県立北中城高等学校","北中城村字渡口1997-13","098-935-3377"]
[null,"普天間",24,"沖縄県立普天間高等学校","宜野湾市普天間1-24-1","098-892-3354"]
[null,"中商",25,"沖縄県立中部商業高等学校","宜野湾市我如古2-2-1","098-898-4888"]
[null,"宜野湾",26,"沖縄県立宜野湾高等学校","宜野湾市真志喜2-25-1","098-897-1020"]
[null,"沖ｶﾄ",27,"沖縄カトリック高等学校","宜野湾市真栄原3-16-1","098-897-3300"]
[null,"西原",28,"沖縄県立西原高等学校","西原町字翁長610","098-945-5418"]
[null,"浦商",29,"沖縄県立浦添商業高等学校","浦添市伊祖3-11-1","098-877-5844"]
[null,"浦工",30,"沖縄県立浦添工業高等学校","浦添市経塚1-1-1","098-879-5992"]
[null,"陽明",31,"沖縄県立陽明高等学校","浦添市字大平488","098-879-3062"]
[null,"昭薬附",32,"昭和薬科大学附属高等学校","浦添市字沢岻450","098-870-1852"]
[null,"浦添",33,"沖縄県立浦添高等学校","浦添市内間3-26-1","098-877-4970"]
[null,"那覇工",34,"沖縄県立那覇工業高等学校","浦添市勢理客4-22-1","098-877-6144"]
[null,"那覇国",35,"沖縄県立那覇国際高等学校","那覇市天久1-29-1","098-860-5931"]
[null,"興南",36,"学校法人興南学園興南高等学校","那覇市古島1-7-1","098-884-3293"]
[null,"首里東",37,"沖縄県立首里東高等学校","那覇市首里石嶺町3-178","098-886-1578"]
[null,"首里",38,"沖縄県立首里高等学校","那覇市首里真和志町2-43","098-885-0028"]
[null,"沖工",39,"沖縄県立沖縄工業高等学校","那覇市松川3-20-1","098-832-3831"]
[null,"沖尚",40,"学校法人尚学学園沖縄尚学高等学校","那覇市字国場747","098-832-1767"]
[null,"真和志",41,"沖縄県立真和志高等学校","那覇市字真地248","098-833-0810"]
[null,"那覇商",42,"沖縄県立那覇商業高等学校","那覇市松山1-16-1","098-866-6555"]
[null,"那覇",43,"沖縄県立那覇高等学校","那覇市松尾1-21-44","098-867-1623"]
[null,"小禄",44,"沖縄県立小禄高等学校","那覇市鏡原町22-1","098-857-0481"]
[null,"那覇西",45,"沖縄県立那覇西高等学校","那覇市金城3-5-1","098-858-8274"]
[null,"開邦",46,"沖縄県立開邦高等学校","南風原町字新川646","098-889-1715"]
[null,"南風原",47,"沖縄県立南風原高等学校","南風原町字津嘉山1140","098-889-4618"]
[null,"知念",48,"沖縄県立知念高等学校","与那原町字与那原11","098-946-2207"]
[null,"豊見城",49,"沖縄県立豊見城高等学校","豊見城市字真玉橋217","098-850-5551"]
[null,"豊南",50,"沖縄県立豊見城南高等学校","豊見城市字翁長520","098-850-1950"]
[null,"南農",51,"沖縄県立南部農林高等学校","豊見城市字長堂182","098-850-6006"]
[null,"南商",52,"沖縄県立南部商業高等学校","八重瀬町字友寄850","098-998-2401"]
[null,"南工",53,"沖縄県立南部工業高等学校","八重瀬町字富盛1338","098-998-2313"]
[null,"向陽",54,"沖縄県立向陽高等学校","八重瀬町字港川150","098-998-9324"]
[null,"沖水",55,"沖縄県立沖縄水産高等学校","糸満市西崎1-1-1","098-994-3483"]
[null,"糸満",56,"沖縄県立糸満高等学校","糸満市字糸満1696-1","098-994-2012"]
[null,"久米島",57,"沖縄県立久米島高等学校","久米島町字嘉手苅727","098-985-2233"]
[null,"宮古",58,"沖縄県立宮古高等学校","宮古島市平良字西里718-1","0980-72-2118"]
[null,"宮総実",59,"沖縄県立宮古総合実業高等学校","宮古島市平良字下里280","0980-72-2249"]
[null,"宮工",60,"沖縄県立宮古工業高等学校","宮古島市平良字東仲宗根968-4","0980-72-3185"]
[null,"八重農",61,"沖縄県立八重山農林高等学校","石垣市字大川477-1","0980-82-3955"]
[null,"八商工",62,"沖縄県立八重山商工高等学校","石垣市字真栄里180","0980-82-3892"]
[null,"八重山",63,"沖縄県立八重山高等学校","石垣市字登野城275","0980-82-3972"]
[null,"鏡が丘特",64,"沖縄県立鏡が丘特別支援学校","浦添市当山3丁目2番7号","098-877-4940"]
[null,"沖高特",65,"沖縄県立沖縄高等特別支援学校","うるま市字田場1243番地","098-973-1661"]
[null,"美咲特",68,"沖縄県立美咲特別支援学校","沖縄市美里 4 丁目 18 番 1 号","098-938-1037"]
[null,"KBC",69]
[null,"宮古特",70,"沖縄県立宮古特別支援学校","宮古島市平良字狩俣4005-1","0980-72-5117"]
[null,"西崎特",71,"沖縄県立西崎特別支援学校","糸満市西崎１丁目１番２号","098-994-6855"]
[null,"大平特",72,"沖縄県立大平特別支援学校","浦添市大平１丁目27番１号","098-877-4941"]
[null,"ウェルネス",73]
[null,"中農高支",74,"沖縄県立中部農林高等支援学校","うるま市字田場1570番地","098-973-3578"]
[null,"陽明高支",75,"沖縄県立陽明高等支援学校","浦添市字大平488番地","098-870-1588"]
[null,"南風原高支",76,"沖縄県立南風原高等支援学校","南風原町字津嘉山1140","098-889-4618"]
[null,"やえせ高支",77,"沖縄県立やえせ高等支援学校","八重瀬町字友寄850","098-998-2401"]
[null,"はなさき支",78,"沖縄県立はなさき支援学校","北中城村屋宜原415","098-989-0192"]
[null,"鹿島朝日",79]
[null,"仙台育英沖縄",81]
[null,"エナジック",82]
[null,"名護特",83,"沖縄県立名護特別支援学校","名護市字宇茂佐760番地","0980-52-0505"]
[null,"ウェルネス","定14"]
[null,"鹿島朝日","定15"]
[null,"クラーク","定16"]
[null,"エナジック","定17"]
[null,"瑞穂MSC","定18"]